BEGIN:VCALENDAR
VERSION:2.0
PRODID:-//Library Market//iCal Export//EN
BEGIN:VEVENT
SUMMARY:Henry Behnke, Photographer
UID:46201
DTSTAMP:20260423T224700Z
DTSTART:20260601T040000Z
DTEND:20260629T040000Z
LOCATION:Moriches Branch, 201 Montauk Highway, Moriches, NY 11955, United 
 States
ROOM: Wall Art Moriches
DESCRIPTION:Shirley patron William Lauer inherited these photos, taken by 
 his uncle, Henry Behnke, an artilleryman stationed in Greenland during WWI
 I.
URL:https://mmscl.librarycalendar.com/event/henry-behnke-photographer-4620
 1
END:VEVENT
END:VCALENDAR
