BEGIN:VCALENDAR
VERSION:2.0
PRODID:-//Library Market//iCal Export//EN
BEGIN:VEVENT
SUMMARY:Vintage Shell Jewelry
UID:46200
DTSTAMP:20260423T071500Z
DTSTART:20260601T040000Z
DTEND:20260629T040000Z
LOCATION:Moriches Branch, 201 Montauk Highway, Moriches, NY 11955, United 
 States
ROOM: Pedestals Moriches
DESCRIPTION:Delight in this vintage shell jewelry from the collection of D
 iane Schwindt.
URL:https://mmscl.librarycalendar.com/event/vintage-shell-jewelry-46200
END:VEVENT
END:VCALENDAR
