BEGIN:VCALENDAR
VERSION:2.0
PRODID:-//Library Market//iCal Export//EN
BEGIN:VEVENT
SUMMARY:Depression Glass &amp; William Lauer&#039;s Collection of Greenlan
 d Inuit Art
UID:46197
DTSTAMP:20260423T224700Z
DTSTART:20260601T040000Z
DTEND:20260629T040000Z
LOCATION:Main Library, 407 William Floyd Pkwy, Shirley, NY 11967, United S
 tates
ROOM: Display Cases &amp; Pedestals
DESCRIPTION:PedestalsDepression Glass: Experience the vibrant colors of De
 pression Era glass.ShowcaseWilliam Lauer, Collection of Greenland Inuit Ar
 t: A gift of friendship to Henry Behnke, a U.S. artilleryman stationed in 
 Greenland during WWII, from the Inuit people.
URL:https://mmscl.librarycalendar.com/event/depression-glass-46197
END:VEVENT
END:VCALENDAR
