BEGIN:VCALENDAR
VERSION:2.0
PRODID:-//Library Market//iCal Export//EN
BEGIN:VEVENT
SUMMARY:Matrilineal
UID:46193
DTSTAMP:20260422T230800Z
DTSTART:20260501T040000Z
DTEND:20260530T040000Z
LOCATION:Main Library, 407 William Floyd Pkwy, Shirley, NY 11967, United S
 tates
ROOM: Display Cases &amp; Pedestals
DESCRIPTION:Unkechaug and Shinnecock women showcase arts, crafts, and rega
 lia
URL:https://mmscl.librarycalendar.com/event/matrilineal-46193
END:VEVENT
END:VCALENDAR
