BEGIN:VCALENDAR
VERSION:2.0
PRODID:-//Library Market//iCal Export//EN
BEGIN:VEVENT
SUMMARY:MMSCL Quilters
UID:46187
DTSTAMP:20260421T222000Z
DTSTART:20260501T040000Z
DTEND:20260530T040000Z
LOCATION:Moriches Branch, 201 Montauk Highway, Moriches, NY 11955, United 
 States
ROOM: Adult Reference Area
DESCRIPTION:Be inspired by the craftsmanship of quilts created by the Mast
 ics-Moriches-Shirley Quilters.
URL:https://mmscl.librarycalendar.com/event/community-quilts-46187
END:VEVENT
END:VCALENDAR
