BEGIN:VCALENDAR
VERSION:2.0
PRODID:-//Library Market//iCal Export//EN
BEGIN:VEVENT
SUMMARY:Lisa Claisse
UID:46184
DTSTAMP:20260422T230800Z
DTSTART:20260501T040000Z
DTEND:20260530T040000Z
LOCATION:Moriches Branch, 201 Montauk Highway, Moriches, NY 11955, United 
 States
ROOM: Pedestals Moriches
DESCRIPTION:Mother Nature inspires the sublime work of this Watercolor art
 ist. 
URL:https://mmscl.librarycalendar.com/event/lida-claisse-46184
END:VEVENT
END:VCALENDAR
