BEGIN:VCALENDAR
VERSION:2.0
PRODID:-//Library Market//iCal Export//EN
BEGIN:VEVENT
SUMMARY:Literacy
UID:46154
DTSTAMP:20260423T224700Z
DTSTART:20260609T133000Z
DTEND:20260609T151500Z
LOCATION:Main Library, 407 William Floyd Pkwy, Shirley, NY 11967, United S
 tates
ROOM: Community Room B
DESCRIPTION:
URL:https://mmscl.librarycalendar.com/event/literacy-46154
END:VEVENT
END:VCALENDAR
