BEGIN:VCALENDAR
VERSION:2.0
PRODID:-//Library Market//iCal Export//EN
BEGIN:VEVENT
SUMMARY:CPSD Class Visit - Valle
UID:46102
DTSTAMP:20260421T095300Z
DTSTART:20260506T153000Z
DTEND:20260506T163000Z
LOCATION:Main Library, 407 William Floyd Pkwy, Shirley, NY 11967, United S
 tates
ROOM: J Program Room 1 + 2
DESCRIPTION:
URL:https://mmscl.librarycalendar.com/event/class-visit-46102
END:VEVENT
END:VCALENDAR
