BEGIN:VCALENDAR
VERSION:2.0
PRODID:-//Library Market//iCal Export//EN
BEGIN:VEVENT
SUMMARY:Color A Smile
UID:46024
DTSTAMP:20260422T005400Z
DTSTART:20260625T170000Z
DTEND:20260626T010000Z
LOCATION:
DESCRIPTION:Pick up a packet of “Color A Smile&quot; coloring sheets fro
 m the Moriches branch or Main building anytime in May. Color all 8 pages a
 t home to earn 2 hours of community service. Return the pages on  6/4, 6/
 11, 6/18 or 6/25 between 1 and 9 pm to the Moriches branch or Main buildin
 g.        
URL:https://mmscl.librarycalendar.com/event/color-smile-46024
END:VEVENT
END:VCALENDAR
