BEGIN:VCALENDAR
VERSION:2.0
PRODID:-//Library Market//iCal Export//EN
BEGIN:VEVENT
SUMMARY:Color A Smile
UID:46023
DTSTAMP:20260420T133000Z
DTSTART:20260528T170000Z
DTEND:20260529T010000Z
LOCATION:
DESCRIPTION:Pick up a packet of “Color A Smile&quot; coloring sheets fro
 m the Moriches branch or Main building anytime in May. Color all 8 pages a
 t home to earn 2 hours of community service. Return the pages on  5/7, 5/
 14, 5/21 or 5/28 between 1 and 9 pm to the Moriches branch or Main buildin
 g.        
URL:https://mmscl.librarycalendar.com/event/color-smile-46023
END:VEVENT
END:VCALENDAR
