BEGIN:VCALENDAR
VERSION:2.0
PRODID:-//Library Market//iCal Export//EN
BEGIN:VEVENT
SUMMARY:Regents
UID:45966
DTSTAMP:20260420T063700Z
DTSTART:20260618T131500Z
DTEND:20260618T163000Z
LOCATION:Main Library, 407 William Floyd Pkwy, Shirley, NY 11967, United S
 tates
ROOM: Tutor Room 2
DESCRIPTION:Reserved room for students taking the NYS Regents in alternate
  locations. You may have to share space with other test-takers.Rooms canno
 t be booked for individual test-takers and tutors on these days.
URL:https://mmscl.librarycalendar.com/event/regents-45966
END:VEVENT
END:VCALENDAR
