BEGIN:VCALENDAR
VERSION:2.0
PRODID:-//Library Market//iCal Export//EN
BEGIN:VEVENT
SUMMARY:Regents
UID:45958
DTSTAMP:20260420T063700Z
DTSTART:20260617T131500Z
DTEND:20260617T163000Z
LOCATION:Moriches Branch, 201 Montauk Highway, Moriches, NY 11955, United 
 States
ROOM: Teen Rooms Combined
DESCRIPTION:Reserved room for students taking the NYS Regents in alternate
  locations. You may have to share space with other test-takers.Rooms canno
 t be booked for individual test-takers and tutors on these days.
URL:https://mmscl.librarycalendar.com/event/regents-45958
END:VEVENT
END:VCALENDAR
