BEGIN:VCALENDAR
VERSION:2.0
PRODID:-//Library Market//iCal Export//EN
BEGIN:VEVENT
SUMMARY:Room Hold - Spring Fest
UID:45957
DTSTAMP:20260421T110900Z
DTSTART:20260511T170000Z
DTEND:20260512T010000Z
LOCATION:Moriches Branch, 201 Montauk Highway, Moriches, NY 11955, United 
 States
ROOM: CPSD Program Room Moriches
DESCRIPTION:
URL:https://mmscl.librarycalendar.com/event/room-hold-spring-fest-45957
END:VEVENT
END:VCALENDAR
