BEGIN:VCALENDAR
VERSION:2.0
PRODID:-//Library Market//iCal Export//EN
BEGIN:VEVENT
SUMMARY:Room Hold - Spring Fest
UID:45943
DTSTAMP:20260421T110900Z
DTSTART:20260508T130000Z
DTEND:20260508T220000Z
LOCATION:Moriches Branch, 201 Montauk Highway, Moriches, NY 11955, United 
 States
ROOM: Teen Rooms Combined
DESCRIPTION:Hold for SCLS items
URL:https://mmscl.librarycalendar.com/event/room-hold-spring-fest-45943
END:VEVENT
END:VCALENDAR
