BEGIN:VCALENDAR
VERSION:2.0
PRODID:-//Library Market//iCal Export//EN
BEGIN:VEVENT
SUMMARY:Ms. Rachel Experience
UID:45912
DTSTAMP:20260425T012200Z
DTSTART:20260821T150000Z
DTEND:20260821T154500Z
LOCATION:Main Library, 407 William Floyd Pkwy, Shirley, NY 11967, United S
 tates
ROOM: Community Room A
DESCRIPTION:Ages 1 to 5 years with adult. Enjoy a fun, interactive Ms. Ra
 chel Experience featuring a talented impersonator and American Idol finali
 st! Music, instruments, puppets, scarves, a rainbow parachute, and more wi
 ll have little ones singing, moving, and playing along!   
URL:https://mmscl.librarycalendar.com/event/ms-rachel-experience-45912
END:VEVENT
END:VCALENDAR
