BEGIN:VCALENDAR
VERSION:2.0
PRODID:-//Library Market//iCal Export//EN
BEGIN:VEVENT
SUMMARY:Mastic Beach Conservancy: Community Meeting
UID:45868
DTSTAMP:20260420T225800Z
DTSTART:20260429T220000Z
DTEND:20260429T230000Z
LOCATION:Main Library, 407 William Floyd Pkwy, Shirley, NY 11967, United S
 tates
ROOM: Meeting Room 1+2
DESCRIPTION:This is a community meeting for people living in or near the f
 lood zone. It is being offered by Columbia University, who has done a stud
 y on ways homeowner can fortify their homes to mitigate the damages agains
 t future flooding.SB 4-17-26 Technical Assistance Requested
URL:https://mmscl.librarycalendar.com/event/room-hold-mb-conservancy-45868
END:VEVENT
END:VCALENDAR
