BEGIN:VCALENDAR
VERSION:2.0
PRODID:-//Library Market//iCal Export//EN
BEGIN:VEVENT
SUMMARY:Stroller Club
UID:45771
DTSTAMP:20260425T012200Z
DTSTART:20260818T140000Z
DTEND:20260818T144500Z
LOCATION:Patriots Preserve Park, William Floyd Parkway (across from WF Est
 ates), Mastic Beach, NY 11951, United States
ROOM: Stroller Club
DESCRIPTION:Ages birth - 23 months with an adult. Meet us at Patriots Pre
 serve for a morning walk with your little one! 
URL:https://mmscl.librarycalendar.com/event/stroller-club-45771
END:VEVENT
END:VCALENDAR
