BEGIN:VCALENDAR
VERSION:2.0
PRODID:-//Library Market//iCal Export//EN
BEGIN:VEVENT
SUMMARY:The Ultimate STEM Build-Off
UID:45767
DTSTAMP:20260425T135800Z
DTSTART:20260831T220000Z
DTEND:20260831T224500Z
LOCATION:Moriches Branch, 201 Montauk Highway, Moriches, NY 11955, United 
 States
ROOM: CPSD Program Room Moriches
DESCRIPTION:Entering Grades 3-6. Can your team build the strongest struct
 ure? Come experiment, design, and test your ideas in this exciting STEM pr
 ogram full of teamwork, creativity, and hands-on fun.  
URL:https://mmscl.librarycalendar.com/event/ultimate-stem-build-45767
END:VEVENT
END:VCALENDAR
