BEGIN:VCALENDAR
VERSION:2.0
PRODID:-//Library Market//iCal Export//EN
BEGIN:VEVENT
SUMMARY:Cool Concoctions: Ice Pop Lab
UID:45764
DTSTAMP:20260423T173900Z
DTSTART:20260826T220000Z
DTEND:20260826T224500Z
LOCATION:Main Library, 407 William Floyd Pkwy, Shirley, NY 11967, United S
 tates
ROOM: J Program Room 1 + 2
DESCRIPTION:Entering Grades K-6.Cool Concoctions: Ice Pop Lab! 
URL:https://mmscl.librarycalendar.com/event/cool-concoctions-ice-pop-lab-4
 5764
END:VEVENT
END:VCALENDAR
