BEGIN:VCALENDAR
VERSION:2.0
PRODID:-//Library Market//iCal Export//EN
BEGIN:VEVENT
SUMMARY:T-Rex Tea Party
UID:45760
DTSTAMP:20260425T012200Z
DTSTART:20260822T150000Z
DTEND:20260822T154500Z
LOCATION:Main Library, 407 William Floyd Pkwy, Shirley, NY 11967, United S
 tates
ROOM: J Program Room 1 + 2
DESCRIPTION:Ages 2 –5 years with an adult.Join us for a T-Rex Tea Party!
  *This program may not be suitable for those with food allergies.    
       
URL:https://mmscl.librarycalendar.com/event/t-rex-tea-party-45760
END:VEVENT
END:VCALENDAR
