BEGIN:VCALENDAR
VERSION:2.0
PRODID:-//Library Market//iCal Export//EN
BEGIN:VEVENT
SUMMARY:Dino Nugget Plushies
UID:45757
DTSTAMP:20260423T224700Z
DTSTART:20260819T220000Z
DTEND:20260819T224500Z
LOCATION:Main Library, 407 William Floyd Pkwy, Shirley, NY 11967, United S
 tates
ROOM: J Program Room 1 + 2
DESCRIPTION:Entering Grades 4-6.Join us to make Dino Nugget Plushies! 
URL:https://mmscl.librarycalendar.com/event/dino-nugget-plushies-45757
END:VEVENT
END:VCALENDAR
