BEGIN:VCALENDAR
VERSION:2.0
PRODID:-//Library Market//iCal Export//EN
BEGIN:VEVENT
SUMMARY:DIY Marshmallow Jellycat
UID:45755
DTSTAMP:20260425T015600Z
DTSTART:20260817T223000Z
DTEND:20260817T230000Z
LOCATION:Mastic Beach Branch, 369 Neighborhood Rd., Mastic Beach, NY 11951
 , United States
ROOM: CPSD Program Room Mastic Beach
DESCRIPTION:Entering Grades 3-6.Learn how to make your own cute marshmallo
 w Jellycat!  
URL:https://mmscl.librarycalendar.com/event/diy-marshmallow-jellycat-45755
END:VEVENT
END:VCALENDAR
