BEGIN:VCALENDAR
VERSION:2.0
PRODID:-//Library Market//iCal Export//EN
BEGIN:VEVENT
SUMMARY:Cafe: Board Game Night
UID:45596
DTSTAMP:20260420T133000Z
DTSTART:20260526T223000Z
DTEND:20260527T000000Z
LOCATION:Main Library, 407 William Floyd Pkwy, Shirley, NY 11967, United S
 tates
ROOM: Cafe
DESCRIPTION:
URL:https://mmscl.librarycalendar.com/event/cafe-board-game-night-45596
END:VEVENT
END:VCALENDAR
