BEGIN:VCALENDAR
VERSION:2.0
PRODID:-//Library Market//iCal Export//EN
BEGIN:VEVENT
SUMMARY:Operation Safe Child and Medical ID Cards
UID:37972
DTSTAMP:20260421T110900Z
DTSTART:20260509T160000Z
DTEND:20260509T190000Z
LOCATION:Moriches Branch, 201 Montauk Highway, Moriches, NY 11955, United 
 States
ROOM: CPSD Program Room Moriches
DESCRIPTION:The Suffolk County Sheriff&#039;s Office we be creating Operat
 ion Safe Child ID Cards and Medical ID Cards
URL:https://mmscl.librarycalendar.com/event/room-hold-37972
END:VEVENT
END:VCALENDAR
